BEGIN:VCALENDAR
VERSION:2.0
PRODID:-//Urban Milwaukee - ECPv4.6.9//NONSGML v1.0//EN
CALSCALE:GREGORIAN
METHOD:PUBLISH
X-WR-CALNAME:Urban Milwaukee
X-ORIGINAL-URL:https://urbanmilwaukee.com
X-WR-CALDESC:Events for Urban Milwaukee
BEGIN:VEVENT
DTSTART;TZID=America/Chicago:20170114T193000
DTEND;TZID=America/Chicago:20170114T213000
DTSTAMP:20260424T041104
CREATED:20160825T223641Z
LAST-MODIFIED:20160825T223641Z
UID:180313-1484422200-1484429400@urbanmilwaukee.com
SUMMARY:Eric Hoeprich & The London Haydn Quartet: "Music for Clarinet & String Quartet"
DESCRIPTION:Early Music Now presents Eric Hoeprich and the London Haydn Quartet. In two prior seasons we have celebrated an instrument not usually associated with early music\, but which has historical roots in the chalumeau and the basset horn. Prior programs showcased those earlier instruments with soprano\, harpsichord\, cello\, and fortepiano. Eric Hoeprich\, who specializes in performing on historical clarinet\, returns for this third installment\, this time with The London Haydn Quartet\, one of the world’s leading period instrument string ensembles. The program will include W.A. Mozart’s “Clarinet Quintet” K581\, Beethoven’s “String Quartet” Opus 18\, No. 3\, and the Weber “Clarinet Quintet” Opus 34. \n
URL:https://urbanmilwaukee.com/event/eric-hoeprich-the-london-haydn-quartet-music-for-clarinet-string-quartet/
CATEGORIES:Arts & Entertainment
ATTACH;FMTTYPE=image/jpeg:https://urbanmilwaukee.com/wp-content/uploads/2016/08/Clarinet-both.jpg
END:VEVENT
END:VCALENDAR