BEGIN:VCALENDAR
VERSION:2.0
PRODID:-//Urban Milwaukee - ECPv4.6.9//NONSGML v1.0//EN
CALSCALE:GREGORIAN
METHOD:PUBLISH
X-WR-CALNAME:Urban Milwaukee
X-ORIGINAL-URL:https://urbanmilwaukee.com
X-WR-CALDESC:Events for Urban Milwaukee
BEGIN:VEVENT
DTSTART;TZID=America/Chicago:20171021T173000
DTEND;TZID=America/Chicago:20171021T193000
DTSTAMP:20260423T230709
CREATED:20171012T193312Z
LAST-MODIFIED:20171012T193312Z
UID:378133-1508607000-1508614200@urbanmilwaukee.com
SUMMARY:Enchanted Forest
DESCRIPTION:Come see Riverside Park come alive with nocturnal characters. Visitors to the Enchanted Forest will meet these characters on a guided walk on the candlelit paths through the park. After the hike\, come inside for games\, crafts and hot apple cider. Please register in advance for a hike time. Space is limited. Costumes encouraged! \n
URL:https://urbanmilwaukee.com/event/enchanted-forest/
CATEGORIES:Arts & Entertainment
ATTACH;FMTTYPE=image/jpeg:https://urbanmilwaukee.com/wp-content/uploads/2017/10/Enchanted-Forest.jpg
END:VEVENT
END:VCALENDAR