BEGIN:VCALENDAR
VERSION:2.0
PRODID:-//Urban Milwaukee - ECPv4.6.9//NONSGML v1.0//EN
CALSCALE:GREGORIAN
METHOD:PUBLISH
X-WR-CALNAME:Urban Milwaukee
X-ORIGINAL-URL:https://urbanmilwaukee.com
X-WR-CALDESC:Events for Urban Milwaukee
BEGIN:VEVENT
DTSTART;TZID=America/Chicago:20161123T193000
DTEND;TZID=America/Chicago:20161123T215000
DTSTAMP:20260424T234346
CREATED:20161113T160741Z
LAST-MODIFIED:20161113T161044Z
UID:189938-1479929400-1479937800@urbanmilwaukee.com
SUMMARY:Elf The Musical
DESCRIPTION:ELF The Musical is the hilarious tale of Buddy\, a young orphan child who mistakenly crawls into Santa’s bag of gifts and is transported back to the North Pole. Unaware that he is actually human\, Buddy’s enormous size and poor toy-making abilities cause him to face the truth. With Santa’s permission\, Buddy embarks on a journey to New York City to find his birth father\, discover his true identity\, and help New York remember the true meaning of Christmas. This modern day Christmas classic is sure to make everyone embrace their inner ELF. \n
URL:https://urbanmilwaukee.com/event/elf-the-musical-2/
LOCATION:929 N. Water St.\, Milwaukee\, WI\, 53202\, United States
CATEGORIES:Arts & Entertainment
ATTACH;FMTTYPE=image/jpeg:https://urbanmilwaukee.com/wp-content/uploads/2016/04/elf-the-musical-show-detail.jpg
END:VEVENT
END:VCALENDAR