BEGIN:VCALENDAR
VERSION:2.0
PRODID:-//Urban Milwaukee - ECPv4.6.9//NONSGML v1.0//EN
CALSCALE:GREGORIAN
METHOD:PUBLISH
X-WR-CALNAME:Urban Milwaukee
X-ORIGINAL-URL:https://urbanmilwaukee.com
X-WR-CALDESC:Events for Urban Milwaukee
BEGIN:VEVENT
DTSTART;TZID=America/Chicago:20251104T200000
DTEND;TZID=America/Chicago:20251104T233000
DTSTAMP:20260423T192959
CREATED:20251101T103522Z
LAST-MODIFIED:20251101T103620Z
UID:915331-1762286400-1762299000@urbanmilwaukee.com
SUMMARY:Election Night Watch Party
DESCRIPTION:Join Milwaukee DSA for our November election night watch party! We will be watching for our DSA nationally endorsed candidates like Omar Fateh and Zohran Mamdani’s mayoral elections. We will also be raising money so that we can deliver these same kinds of wins in our own hometown. \n
URL:https://urbanmilwaukee.com/event/election-night-watch-party/
LOCATION:722 E. Burleigh St.\, Milwaukee\, WI\, 53212\, United States
CATEGORIES:Politics
ATTACH;FMTTYPE=image/jpeg:https://urbanmilwaukee.com/wp-content/uploads/2025/10/election_night_watch_party.jpg
END:VEVENT
END:VCALENDAR