BEGIN:VCALENDAR
VERSION:2.0
PRODID:-//Urban Milwaukee - ECPv4.6.9//NONSGML v1.0//EN
CALSCALE:GREGORIAN
METHOD:PUBLISH
X-WR-CALNAME:Urban Milwaukee
X-ORIGINAL-URL:https://urbanmilwaukee.com
X-WR-CALDESC:Events for Urban Milwaukee
BEGIN:VEVENT
DTSTART;TZID=America/Chicago:20190421T100000
DTEND;TZID=America/Chicago:20190421T140000
DTSTAMP:20260422T165254
CREATED:20190410T183314Z
LAST-MODIFIED:20190410T183314Z
UID:449045-1555840800-1555855200@urbanmilwaukee.com
SUMMARY:Easter at the Hilton Milwaukee City Center
DESCRIPTION:Celebrate Easter at the Hilton Milwaukee City Center! In addition to a buffet style brunch for families\, the Hilton Milwaukee will transform into an Easter extravaganza with an outdoor petting zoo at the hotel’s 6th and Green and an appearance from the Easter Bunny! \nDuring brunch\, families will enjoy an extravagant chef-prepared Easter spread\, featuring traditional breakfast specialties\, a carving station\, a salad bar and other delicious hot entrees. Kids can enjoy a specialty buffet\, including Belgian waffles\, vegetable bites\, and mac and cheese. Gourmet assorted desserts made in-house will also be served. \nCost is $45.00 for ages 13+\, $21.00 for children 6 – 12 years old\, children aged 5 and under are free (inclusive). Reservations can be made by call 414-935-5940 (Note: need credit card to guarantee reservation with 48-hour cancellation policy). \n
URL:https://urbanmilwaukee.com/event/easter-at-the-hilton-milwaukee-city-center/
LOCATION:509 W. Wisconsin Ave.\, Milwaukee\, WI\, 53203\, United States
CATEGORIES:Food & Drink
ATTACH;FMTTYPE=image/jpeg:https://urbanmilwaukee.com/wp-content/uploads/2019/04/Hilton-Milwaukee-City-Center-Easter-2019.jpg
END:VEVENT
END:VCALENDAR