BEGIN:VCALENDAR
VERSION:2.0
PRODID:-//Urban Milwaukee - ECPv4.6.9//NONSGML v1.0//EN
CALSCALE:GREGORIAN
METHOD:PUBLISH
X-WR-CALNAME:Urban Milwaukee
X-ORIGINAL-URL:https://urbanmilwaukee.com
X-WR-CALDESC:Events for Urban Milwaukee
BEGIN:VEVENT
DTSTART;TZID=America/Chicago:20190427T090000
DTEND;TZID=America/Chicago:20190427T120000
DTSTAMP:20260422T034310
CREATED:20190317T195522Z
LAST-MODIFIED:20190317T195956Z
UID:445783-1556355600-1556366400@urbanmilwaukee.com
SUMMARY:Earth Day of Service at Menomonee Valley
DESCRIPTION:Bring your friends and spend a morning helping in Three Bridges Park\, then stay for a community lunch. This year we are partnering with Milwaukee Riverkeeper for the 24th annual Milwaukee Riverkeeper Spring Cleanup! We provide the bags and gloves\, and YOU provide the energy to pick up trash\, litter\, and other things that find their way into our river system. Meet new people and enjoy helping the Earth! \nFor everyone | Free – donations appreciated \n
URL:https://urbanmilwaukee.com/event/earth-day-of-service-at-menomonee-valley-2/
LOCATION:3700 W. Pierce St.\, Milwaukee\, WI
CATEGORIES:Arts & Entertainment
ATTACH;FMTTYPE=image/jpeg:https://urbanmilwaukee.com/wp-content/uploads/2019/03/IMG_6298.jpg
END:VEVENT
END:VCALENDAR