BEGIN:VCALENDAR
VERSION:2.0
PRODID:-//Urban Milwaukee - ECPv4.6.9//NONSGML v1.0//EN
CALSCALE:GREGORIAN
METHOD:PUBLISH
X-WR-CALNAME:Urban Milwaukee
X-ORIGINAL-URL:https://urbanmilwaukee.com
X-WR-CALDESC:Events for Urban Milwaukee
BEGIN:VEVENT
DTSTART;TZID=America/Chicago:20200930T080000
DTEND;TZID=America/Chicago:20200930T170000
DTSTAMP:20260419T150637
CREATED:20200930T191148Z
LAST-MODIFIED:20200930T191148Z
UID:547509-1601452800-1601485200@urbanmilwaukee.com
SUMMARY:DNR To Update Wisconsin Walleye Management Plan First Virtual Meeting Oct. 13
DESCRIPTION:To continue managing walleye populations across the state\, the Department of Natural Resources (DNR) will begin updating Wisconsin’s Walleye Management Plan through regional public meetings and surveys. \nThe DNR is seeking public input on stocking priorities\, regulation acceptance and agency resource allocation among other things. Public input on the planning process will be gathered through: \n\nComments from the public on walleye management preferences and issues via this public input form\,\nDetailed random mail/online surveys of fishing license holders (both resident and non-resident) to scientifically gauge angler attitudes about management options and\nRegional virtual meetings with stakeholder groups and individuals to discuss local management issues and partnership opportunities.\n\nThe first regional meeting will be held virtually via Zoom on Oct. 13\, 2020 at 6:30 p.m. for Douglas\, Bayfield\, Ashland and Iron counties. Individuals from those counties with a strong interest in walleye management and who would like to apply to participate should contact Max Wolter. Pre-registration is required. \nMore information on future walleye meetings can be found on the DNR’s public meetings calendar. \n
URL:https://urbanmilwaukee.com/event/dnr-to-update-wisconsin-walleye-management-plan-first-virtual-meeting-oct-13/
ATTACH;FMTTYPE=image/jpeg:https://urbanmilwaukee.com/wp-content/uploads/2020/01/DNR.jpg
END:VEVENT
END:VCALENDAR