BEGIN:VCALENDAR
VERSION:2.0
PRODID:-//Urban Milwaukee - ECPv4.6.9//NONSGML v1.0//EN
CALSCALE:GREGORIAN
METHOD:PUBLISH
X-WR-CALNAME:Urban Milwaukee
X-ORIGINAL-URL:https://urbanmilwaukee.com
X-WR-CALDESC:Events for Urban Milwaukee
BEGIN:VEVENT
DTSTART;TZID=America/Chicago:20260424T193000
DTEND;TZID=America/Chicago:20260424T193000
DTSTAMP:20260423T052900
CREATED:20250821T175414Z
LAST-MODIFIED:20250821T175414Z
UID:895734-1777059000-1777059000@urbanmilwaukee.com
SUMMARY:Dinner With The Duchess
DESCRIPTION:At the end of a storied career\, violin virtuoso Margaret gives her final interview to a young reporter. As the evening wears on\, Margaret must confront secrets and ghosts of the past to face an impossible question: how will she be remembered? Boundaries are drawn\, lines are crossed and tensions reach a crescendo as a simple dinner becomes a battleground in the fight for the truth. Nick Green’s tense\, personal drama explores whether the artist or her art defines a legacy. \nCo-Sponsors Margaret Dethloff and Terri Zeh\, Mary Jo and Guy McDonald\, and Susan and Howard Schoenfeld \n
URL:https://urbanmilwaukee.com/event/dinner-with-the-duchess/
LOCATION:255 S Water St\,\, Milwaukee\, WI\, 53204\, United States
CATEGORIES:Arts & Entertainment
ATTACH;FMTTYPE=image/jpeg:https://urbanmilwaukee.com/wp-content/uploads/2025/08/DInner.jpg
END:VEVENT
END:VCALENDAR