BEGIN:VCALENDAR
VERSION:2.0
PRODID:-//Urban Milwaukee - ECPv4.6.9//NONSGML v1.0//EN
CALSCALE:GREGORIAN
METHOD:PUBLISH
X-WR-CALNAME:Urban Milwaukee
X-ORIGINAL-URL:https://urbanmilwaukee.com
X-WR-CALDESC:Events for Urban Milwaukee
BEGIN:VEVENT
DTSTART;TZID=America/Chicago:20251031T180000
DTEND;TZID=America/Chicago:20251031T210000
DTSTAMP:20260423T030418
CREATED:20250923T011622Z
LAST-MODIFIED:20250923T011622Z
UID:903798-1761933600-1761944400@urbanmilwaukee.com
SUMMARY:Dia de los Muertos (Day of the Dead) at the Mitchell Park Domes
DESCRIPTION:Experience the Domes at night! Enjoy traditional food\, music\, and dancing inside the Mitchell Park Domes during our family-friendly Día de los Muertos (Day of the Dead) celebration. View and learn about ofrendas (altars with offerings for your loved ones) and explore the candle-lit Desert Dome. \nLocal art and food vendors will be present at the event\, along with live music and dance performances. You won’t want to miss this opportunity to participate in this joyous community celebration in Milwaukee’s living museum. \nAll proceeds support Milwaukee Domes Alliance educational programming. \n
URL:https://urbanmilwaukee.com/event/dia-de-los-muertos-day-of-the-dead-at-the-mitchell-park-domes/
LOCATION:524 S. Layton Blvd.\, Milwaukee\, WI\, 53215\, United States
CATEGORIES:Arts & Entertainment
ATTACH;FMTTYPE=image/jpeg:https://urbanmilwaukee.com/wp-content/uploads/2025/09/DDLM_logo_2025_Circular_shape-060425j.jpg
END:VEVENT
END:VCALENDAR