BEGIN:VCALENDAR
VERSION:2.0
PRODID:-//Urban Milwaukee - ECPv4.6.9//NONSGML v1.0//EN
CALSCALE:GREGORIAN
METHOD:PUBLISH
X-WR-CALNAME:Urban Milwaukee
X-ORIGINAL-URL:https://urbanmilwaukee.com
X-WR-CALDESC:Events for Urban Milwaukee
BEGIN:VEVENT
DTSTART;TZID=America/Chicago:20181004T190000
DTEND;TZID=America/Chicago:20181004T210000
DTSTAMP:20260424T175530
CREATED:20180921T022717Z
LAST-MODIFIED:20180921T022717Z
UID:421719-1538679600-1538686800@urbanmilwaukee.com
SUMMARY:David Roth in Concert
DESCRIPTION:David Roth strikes many chords\, hearts\, and minds with his unique songs\, offbeat observations\, moving stories\, sense of the hilarious\, and powerful singing and subject matter. David’s songs have found their way to Carnegie Hall\, the United Nations\, several Chicken Soup for the Soul books\, the Kennedy Center\, on Peter\, Paul\, & Mary’s “Discovered”\, the Kingston Trio’s “Born at the Right Time”\, and NASA’s Goddard Space Center. David has earned top honors at premier songwriter competitions – Kerrville (TX) and Falcon Ridge (NY) – and taken his music to a wide variety of venues in this and other countries full-time for three decades. \nArtist Info at: www.davidrothmusic.com \n
URL:https://urbanmilwaukee.com/event/david-roth-in-concert/
LOCATION:2590 S. Superior St.\, Milwaukee\, WI\, 53207\, United States
CATEGORIES:Arts & Entertainment
ATTACH;FMTTYPE=image/jpeg:https://urbanmilwaukee.com/wp-content/uploads/2018/09/RothPhoto1.jpg
END:VEVENT
END:VCALENDAR