BEGIN:VCALENDAR
VERSION:2.0
PRODID:-//Urban Milwaukee - ECPv4.6.9//NONSGML v1.0//EN
CALSCALE:GREGORIAN
METHOD:PUBLISH
X-WR-CALNAME:Urban Milwaukee
X-ORIGINAL-URL:https://urbanmilwaukee.com
X-WR-CALDESC:Events for Urban Milwaukee
BEGIN:VEVENT
DTSTART;TZID=America/Chicago:20151211T190000
DTEND;TZID=America/Chicago:20151211T220000
DTSTAMP:20260424T164551
CREATED:20151207T230809Z
LAST-MODIFIED:20151207T230809Z
UID:148229-1449860400-1449871200@urbanmilwaukee.com
SUMMARY:Dating for Nerds
DESCRIPTION:Find a book lover to curl up with at a literary inspired bash. \nOpen up to other single smarties over board games and themed activities. \nStart a new chapter in a Flow like Poe icebreaker where attendees channel famous authors to trade tales. \nCompete for the title during Punch it\, Dewey trivia featuring subjects from each stack. \nCheck out new romantic matches over a Love in the Time of Kahlua drink special. \nAdd to your collection reading accessory prizes like a Tetris lamp\, a Stormtrooper mug and a Game of Thrones throw. \nAnd\, enter to win an Amazon gift card when you post a bookish pic of yourself using #shelfie on Twitter (@nerdsatheart) or Facebook (Nerds at Heart). \nPresented by: Nerds at Heart\nVenue: 42 Ale House\nAddress: 3807 S. Packard Ave.\, St. Francis\nDate: 7-10 p.m. Friday\, Dec. 11\nPrice: $30. Registration required: nerdsatheart.com\nPhone: 855-NERD-LOVE (855-637-3568) \n
URL:https://urbanmilwaukee.com/event/dating-for-nerds/
LOCATION:3807 S. Packard Ave.\, Saint Francis\, WI\, 53235\, United States
CATEGORIES:Arts & Entertainment
ATTACH;FMTTYPE=image/jpeg:https://urbanmilwaukee.com/wp-content/uploads/2015/12/NerdsAtHeart_Jan2012_09.jpg
END:VEVENT
END:VCALENDAR