BEGIN:VCALENDAR
VERSION:2.0
PRODID:-//Urban Milwaukee - ECPv4.6.9//NONSGML v1.0//EN
CALSCALE:GREGORIAN
METHOD:PUBLISH
X-WR-CALNAME:Urban Milwaukee
X-ORIGINAL-URL:https://urbanmilwaukee.com
X-WR-CALDESC:Events for Urban Milwaukee
BEGIN:VEVENT
DTSTART;TZID=America/Chicago:20190124T130000
DTEND;TZID=America/Chicago:20190124T170000
DTSTAMP:20260422T195124
CREATED:20190108T193842Z
LAST-MODIFIED:20190108T193842Z
UID:435544-1548334800-1548349200@urbanmilwaukee.com
SUMMARY:Danceworks Mad Hot Tap Competition
DESCRIPTION:Join us for the 13th annual Danceworks Mad Hot Tap Competition on Thursday\, January 24th\, 2019! \nThis incredible celebration will show off the hard work of over 1\,000 fourth and fifth grade students from 39 Milwaukee area schools\, as they compete in Latin and Swing styles of tap dance as part of Danceworks Mad Hot. New this year\, students will also compete in the category of hip hop dance\, in addition to the traditional tap dance. \nThe public is invited to the UW-Milwaukee Panther Arena (400 W. Kilbourn Ave. in Milwaukee) beginning at 1:00 p.m. to cheer on students\, with finals and awards beginning at 4:00 p.m. The Danceworks Mad Hot Tap Competition is completely free and open to the public\, and guests are welcome to join at any time. \n
URL:https://urbanmilwaukee.com/event/danceworks-mad-hot-tap-competition-2/
LOCATION:400 W. Kilbourn Ave.\, Milwaukee\, 53203\, United States
CATEGORIES:Arts & Entertainment
ATTACH;FMTTYPE=image/png:https://urbanmilwaukee.com/wp-content/uploads/2019/01/5x7-General-Postcard_2019Tap_Page_1.png
END:VEVENT
END:VCALENDAR