BEGIN:VCALENDAR
VERSION:2.0
PRODID:-//Urban Milwaukee - ECPv4.6.9//NONSGML v1.0//EN
CALSCALE:GREGORIAN
METHOD:PUBLISH
X-WR-CALNAME:Urban Milwaukee
X-ORIGINAL-URL:https://urbanmilwaukee.com
X-WR-CALDESC:Events for Urban Milwaukee
BEGIN:VEVENT
DTSTART;TZID=America/Chicago:20160821T120000
DTEND;TZID=America/Chicago:20160821T160000
DTSTAMP:20260424T114717
CREATED:20160825T052155Z
LAST-MODIFIED:20160825T052155Z
UID:181210-1471780800-1471795200@urbanmilwaukee.com
SUMMARY:Danceworks FREE-FOR-ALL
DESCRIPTION:Our next FREE-FOR-ALL is this weekend!!\nSunday\, August 21st | 12-4 PM | Danceworks Studios | 1661 N Water St\, Milwaukee\, WI 53202 \nIf you’ve been waiting for just the right time to try out some of Danceworks’ most popular classes\, the wait is over! Danceworks is having a FREE-FOR-ALL…a day of free classes for the whole family! This event will offer both youth and adult classes–so bring some friends and try a class or two\, all for FREE! \nRegister for any of Danceworks’ upcoming fall classes at the Free-For-All and receive $20 off. \nTHE SCHEDULE:\n12:00-12:45\nSwing Dance (adult)\nSwing dance is a lively style of social dancing. Some popular swing dances are Jitterbug\, Lindy and Jive.\nJazz (ages 7-9)\nA fun\, high energy class set to popular music. Jazz dance encourages individual expression and development of personal style. \n1:00-1:45\nHip Hop (ages 12- adult)\nA high-energy dance form using the latest music mixed with movements that are influenced by some of today’s top video choreographers. \nTap & Pre-Ballet (ages 5-6)\nDesigned to build coordination\, strength and body awareness through a range of creative techniques. Introduces basic ballet & tap terminology\, positions\, movements\, and dance class etiquette. \n2:00-2:45\nAdult Beg Contemporary (adult)\nCharacterized by its versatility\, contemporary dance can be danced to any style of music and united with other dance forms to create a new style of movement. \nCreative Dance (Age 3-4)\nFun and games that explore creativity and self-expression and develop dance skills that prepare students to move into other movement disciplines. Focuses on coordination\, rhythm and creativity. \n3:00-3:45\nJazz (ages 9-13)\nA fun\, high energy class set to popular music. Jazz dance encourages individual expression and development of personal style. \nBeg Tap (adult)\nTap dance sharpens reflexes and improves memory skills and coordination. Beginning classes will work toward establishing fundamental tap movements\, vocabulary and will work on basic rhythms and steps that progress into fun and lively dance combinations. \nFor more info call 414-277-8480 or visit www.danceworksmke.org \n
URL:https://urbanmilwaukee.com/event/danceworks-free-for-all/
CATEGORIES:Arts & Entertainment
ATTACH;FMTTYPE=image/png:https://urbanmilwaukee.com/wp-content/uploads/2016/08/FreeForAll_headline.png
END:VEVENT
END:VCALENDAR