BEGIN:VCALENDAR
VERSION:2.0
PRODID:-//Urban Milwaukee - ECPv4.6.9//NONSGML v1.0//EN
CALSCALE:GREGORIAN
METHOD:PUBLISH
X-WR-CALNAME:Urban Milwaukee
X-ORIGINAL-URL:https://urbanmilwaukee.com
X-WR-CALDESC:Events for Urban Milwaukee
BEGIN:VEVENT
DTSTART;TZID=America/Chicago:20190803T193000
DTEND;TZID=America/Chicago:20190803T210000
DTSTAMP:20260422T174247
CREATED:20190801T015554Z
LAST-MODIFIED:20190801T015554Z
UID:464967-1564860600-1564866000@urbanmilwaukee.com
SUMMARY:DanceLAB Teen: Conversations
DESCRIPTION:This concert features original work from Danceworks Youth Performance Company Artistic Manager and Danceworks Performance Company member\, Gina Laurenzi. Laurenzi will set new choreography\, improvisational structures\, and infuse movement created by dancers throughout to create a unique collaboration with teen artists. Concepts will be drawn from both the dancers’ own personal experiences and the moods the music evokes. DanceLAB Teen: Conversations features the music of Chicago band\, Twin Talk. \nTicket Info:\nAdvanced Purchase Tickets: Reserved Seating $14 // General Admission $11 // Student\, Senior & Military $9 \nWalk Up Tickets: General Admission $14 // Student\, Senior & Military $11 \n
URL:https://urbanmilwaukee.com/event/dancelab-teen-conversations/
LOCATION:1661 N. Water St.\, Milwaukee\, WI\, 53202\, United States
CATEGORIES:Arts & Entertainment
ATTACH;FMTTYPE=image/png:https://urbanmilwaukee.com/wp-content/uploads/2019/07/unnamed-2.png
END:VEVENT
END:VCALENDAR