BEGIN:VCALENDAR
VERSION:2.0
PRODID:-//Urban Milwaukee - ECPv4.6.9//NONSGML v1.0//EN
CALSCALE:GREGORIAN
METHOD:PUBLISH
X-WR-CALNAME:Urban Milwaukee
X-ORIGINAL-URL:https://urbanmilwaukee.com
X-WR-CALDESC:Events for Urban Milwaukee
BEGIN:VEVENT
DTSTART;TZID=America/Chicago:20171020T220000
DTEND;TZID=America/Chicago:20171021T020000
DTSTAMP:20260423T191529
CREATED:20171006T172950Z
LAST-MODIFIED:20171006T172950Z
UID:377954-1508536800-1508551200@urbanmilwaukee.com
SUMMARY:"Cycle-delic Forest" Bike Prom
DESCRIPTION:Vulture Space is a nonprofit 501c(3) community bike shop that aims to get a bicycle in the hands of every person living in Milwaukee. We are located downtown\, at 651 N Plankinton Ave. Our shop depends on donations and volunteers to stay open and active. \nOur largest fundraising event is Bike Prom\, which happens every fall. This year it will be held at Company Brewing in Riverwest on October 20th at 10pm. The theme is “cycle-delic forest” and the area will be decorated with neon colored nature scenes. Guests are encouraged to dress in costume. Tickets are available for $10 a pair at our shop or at the door. \nActivities during the event will include live DJs with black light dance floor\, costume contest\, dance off\, photo booth\, raffle prizes\, and pre-party group bike ride through the neighborhood. \n
URL:https://urbanmilwaukee.com/event/cycle-delic-forest-bike-prom/
LOCATION:735 E. Center St \, Milwaukee\, WI\, 53212\, United States
CATEGORIES:Arts & Entertainment
ATTACH;FMTTYPE=image/jpeg:https://urbanmilwaukee.com/wp-content/uploads/2017/10/IMG_0529.jpg
END:VEVENT
END:VCALENDAR