BEGIN:VCALENDAR
VERSION:2.0
PRODID:-//Urban Milwaukee - ECPv4.6.9//NONSGML v1.0//EN
CALSCALE:GREGORIAN
METHOD:PUBLISH
X-WR-CALNAME:Urban Milwaukee
X-ORIGINAL-URL:https://urbanmilwaukee.com
X-WR-CALDESC:Events for Urban Milwaukee
BEGIN:VEVENT
DTSTART;TZID=America/Chicago:20161007T183000
DTEND;TZID=America/Chicago:20161007T210000
DTSTAMP:20260424T054049
CREATED:20160915T213151Z
LAST-MODIFIED:20160915T213151Z
UID:180904-1475865000-1475874000@urbanmilwaukee.com
SUMMARY:Current Contours Opening Reception
DESCRIPTION:Current Contours featuring new works by gallery artists\, Tony Conrad\, Dale Knaak\, Rob Neilson\, Melissa Dorn Richards\, Stefani Quam\, Sara Willadsen\, and William Zuback at Arts Mills in Grafton\, Wisconsin. Since the closing of the Frank Juarez Gallery in December 2015\, this exhibition brings them back together and celebrates the works of these talented artists. Works on exhibit will range from sculpture to photography\, drawings to installation\, and projection to mixed media. \n
URL:https://urbanmilwaukee.com/event/current-contours-opening-reception/
CATEGORIES:Arts & Entertainment
END:VEVENT
END:VCALENDAR