BEGIN:VCALENDAR
VERSION:2.0
PRODID:-//Urban Milwaukee - ECPv4.6.9//NONSGML v1.0//EN
CALSCALE:GREGORIAN
METHOD:PUBLISH
X-WR-CALNAME:Urban Milwaukee
X-ORIGINAL-URL:https://urbanmilwaukee.com
X-WR-CALDESC:Events for Urban Milwaukee
BEGIN:VEVENT
DTSTART;TZID=America/Chicago:20230107T130000
DTEND;TZID=America/Chicago:20230107T150000
DTSTAMP:20260419T144337
CREATED:20230104T072135Z
LAST-MODIFIED:20230104T072245Z
UID:694947-1673096400-1673103600@urbanmilwaukee.com
SUMMARY:Cross Country Skiing for Beginners at Hubbard Park
DESCRIPTION:Tis the season for skiing! Learn all the basics with us at this beginners cross country skiing program at Hubbard Park\, along the frozen Milwaukee River. We will provide the ski boots\, skis\, poles and instruction. Don’t let winter keep you inside\, join us on this urban adventure! Meet at Hubbard Park: 3565 N Morris Blvd. \nFor questions about this program\, please contact Registrar\, Augie Rodenbeck\, at arodenbeck@urbanecologycenter.org or call (414) 626-8518. \nRegistration is required for this event and will close 24 hours prior to program start time. \n
URL:https://urbanmilwaukee.com/event/cross-country-skiing-for-beginners-at-hubbard-park/
LOCATION:1500 E. Park Pl\, Milwaukee\, WI\, 53211\, United States
CATEGORIES:Active
ATTACH;FMTTYPE=image/jpeg:https://urbanmilwaukee.com/wp-content/uploads/2022/12/318852903_556177045940397_6214367570122562007_n.jpg
END:VEVENT
END:VCALENDAR