BEGIN:VCALENDAR
VERSION:2.0
PRODID:-//Urban Milwaukee - ECPv4.6.9//NONSGML v1.0//EN
CALSCALE:GREGORIAN
METHOD:PUBLISH
X-WR-CALNAME:Urban Milwaukee
X-ORIGINAL-URL:https://urbanmilwaukee.com
X-WR-CALDESC:Events for Urban Milwaukee
BEGIN:VEVENT
DTSTART;TZID=America/Chicago:20181013T080000
DTEND;TZID=America/Chicago:20181013T170000
DTSTAMP:20260422T194840
CREATED:20180325T153624Z
LAST-MODIFIED:20180325T153624Z
UID:398729-1539417600-1539450000@urbanmilwaukee.com
SUMMARY:Cream City Code - 2018
DESCRIPTION:Cream City Code is a one-day development conference in the Milwaukee area designed to bring together developers from the Midwest to explore new ideas\, code\, share knowledge and discover best practices. \nThis conference is great for developers\, designers\, programmers\, team leads and others interested in learning more about development. \n
URL:https://urbanmilwaukee.com/event/cream-city-code-2018/
LOCATION:1721 W. Canal St.\, Milwaukee\, WI\, 53211\, United States
CATEGORIES:Business
ATTACH;FMTTYPE=image/jpeg:https://urbanmilwaukee.com/wp-content/uploads/2018/03/CCC_EventBrite_Header-compressed.jpg
END:VEVENT
END:VCALENDAR