BEGIN:VCALENDAR
VERSION:2.0
PRODID:-//Urban Milwaukee - ECPv4.6.9//NONSGML v1.0//EN
CALSCALE:GREGORIAN
METHOD:PUBLISH
X-WR-CALNAME:Urban Milwaukee
X-ORIGINAL-URL:https://urbanmilwaukee.com
X-WR-CALDESC:Events for Urban Milwaukee
BEGIN:VEVENT
DTSTART;TZID=America/Chicago:20230208T190000
DTEND;TZID=America/Chicago:20230208T203000
DTSTAMP:20260422T080955
CREATED:20230127T062602Z
LAST-MODIFIED:20230127T062635Z
UID:690328-1675882800-1675888200@urbanmilwaukee.com
SUMMARY:Cream City Book Club: 'How to Speak Whale' by Tom Mustill
DESCRIPTION:Come discuss How to Speak Whale by Tom Mustill. Ticket includes a glass of house wine and a fun bookish community. \nCream City Book Club is moderated by Nicole Mattke and meets at The Starling monthly. Ticket sales close at noon the day prior to each event. Included are prepared\, engaging discussion questions and a glass of house wine\, with additional food and drinks available on site for purchase. \n
URL:https://urbanmilwaukee.com/event/cream-city-book-club-how-to-speak-whale-by-tom-mustill/
LOCATION:102 N. Water St.\, Milwaukee\, WI\, 53202\, United States
CATEGORIES:Arts & Entertainment
ATTACH;FMTTYPE=image/png:https://urbanmilwaukee.com/wp-content/uploads/2022/11/CCBC-Logo-2-1.png
END:VEVENT
END:VCALENDAR