BEGIN:VCALENDAR
VERSION:2.0
PRODID:-//Urban Milwaukee - ECPv4.6.9//NONSGML v1.0//EN
CALSCALE:GREGORIAN
METHOD:PUBLISH
X-WR-CALNAME:Urban Milwaukee
X-ORIGINAL-URL:https://urbanmilwaukee.com
X-WR-CALDESC:Events for Urban Milwaukee
BEGIN:VEVENT
DTSTART;TZID=America/Chicago:20231115T190000
DTEND;TZID=America/Chicago:20231115T203000
DTSTAMP:20260419T144444
CREATED:20231115T162735Z
LAST-MODIFIED:20231115T162735Z
UID:750302-1700074800-1700080200@urbanmilwaukee.com
SUMMARY:Cream City Book Club: 'Banyan Moon' by Thao Thai
DESCRIPTION:Come discuss “Banyan Moon” by Thao Thai. Ticket includes a glass of house wine and a fun bookish community.\nCream City Book Club is moderated by Nicole Mattke and meets at The Starling monthly. Ticket sales close at noon the day prior to each event. Included are prepared\, engaging discussion questions and a glass of house wine\, with additional drinks and food available on site for purchase. \n
URL:https://urbanmilwaukee.com/event/cream-city-book-club-banyan-moon-by-thao-thai/
LOCATION:102 N. Water St.\, Milwaukee\, WI\, 53202\, United States
CATEGORIES:Arts & Entertainment,Food & Drink
ATTACH;FMTTYPE=image/png:https://urbanmilwaukee.com/wp-content/uploads/2023/11/CCBC-Logo.png
ORGANIZER;CN="Cream%20City%20Book%20Club":MAILTO:creamcitybookclub@gmail.com
END:VEVENT
END:VCALENDAR