BEGIN:VCALENDAR
VERSION:2.0
PRODID:-//Urban Milwaukee - ECPv4.6.9//NONSGML v1.0//EN
CALSCALE:GREGORIAN
METHOD:PUBLISH
X-WR-CALNAME:Urban Milwaukee
X-ORIGINAL-URL:https://urbanmilwaukee.com
X-WR-CALDESC:Events for Urban Milwaukee
BEGIN:VEVENT
DTSTART;TZID=America/Chicago:20180917T180000
DTEND;TZID=America/Chicago:20180917T210000
DTSTAMP:20260424T095629
CREATED:20180905T105000Z
LAST-MODIFIED:20180905T105000Z
UID:416712-1537207200-1537218000@urbanmilwaukee.com
SUMMARY:Constitution Day 2018 - Screening of RBG
DESCRIPTION:Free screening of RBG\, the 2018 critically-acclaimed\, docu-biography about Supreme Court Justice Ruth Bader Ginsburg. \nThe film explores RBG’s extraordinary life and career and her numerous contributions to issues involving gender discrimination. \nJoin us after the screening for a discussion of the Equal Protection clause of the 14th Amendment. Panelists are: \nSara Benesh\, UWM Professor of Political Science;\nRick Esenberg\, President and General Counsel of the Wisconsin Institute for Law and Liberty;\nAsma Kadri\, Staff Attorney\, Wisconsin ACLU; and\nMichael O’Hear\, Professor at Marquette University Law School. \nModerated by Jasmine Alinder\, Associate Dean for the Humanities\, UWM. \nTickets are free but must be reserved in advanced as seating is limited. \n
URL:https://urbanmilwaukee.com/event/constitution-day-2018-screening-of-rbg/
LOCATION:2200 E. Kenwood Blvd.\, Milwaukee\, WI\, 53211\, United States
CATEGORIES:Arts & Entertainment,Politics
ATTACH;FMTTYPE=image/png:https://urbanmilwaukee.com/wp-content/uploads/2018/08/RBG-Movie-300-x-300.png
END:VEVENT
END:VCALENDAR