BEGIN:VCALENDAR
VERSION:2.0
PRODID:-//Urban Milwaukee - ECPv4.6.9//NONSGML v1.0//EN
CALSCALE:GREGORIAN
METHOD:PUBLISH
X-WR-CALNAME:Urban Milwaukee
X-ORIGINAL-URL:https://urbanmilwaukee.com
X-WR-CALDESC:Events for Urban Milwaukee
BEGIN:VEVENT
DTSTART;TZID=America/Chicago:20161023T103000
DTEND;TZID=America/Chicago:20161023T120000
DTSTAMP:20260424T041859
CREATED:20161007T183722Z
LAST-MODIFIED:20161007T183722Z
UID:184505-1477218600-1477224000@urbanmilwaukee.com
SUMMARY:Connected Enterprise: Shaping the Future
DESCRIPTION:This event is part of the Wisconsin Science Festival \nThe number of devices connected to the Internet will increase three-fold in the next four years – to 50 billion. What can be gained by managing all that information? Instead of using a single pool of data on a single device for a single purpose\, this workshop will introduce the concept of connecting multiple silos of information to make processes super efficient and productive. It will transform manufacturing\, healthcare\, agriculture and other industries\, as well as our lives. \nRegistration Required \n
URL:https://urbanmilwaukee.com/event/connected-enterprise-shaping-the-future-2/
LOCATION:3200 N. Cramer Ave.\, Milwaukee\, WI\, 53211\, United States
CATEGORIES:Arts & Entertainment
ATTACH;FMTTYPE=image/jpeg:https://urbanmilwaukee.com/wp-content/uploads/2016/09/event-enterprise1.jpg
END:VEVENT
END:VCALENDAR