BEGIN:VCALENDAR
VERSION:2.0
PRODID:-//Urban Milwaukee - ECPv4.6.9//NONSGML v1.0//EN
CALSCALE:GREGORIAN
METHOD:PUBLISH
X-WR-CALNAME:Urban Milwaukee
X-ORIGINAL-URL:https://urbanmilwaukee.com
X-WR-CALDESC:Events for Urban Milwaukee
BEGIN:VEVENT
DTSTART;TZID=America/Chicago:20191122T170000
DTEND;TZID=America/Chicago:20191122T220000
DTSTAMP:20260422T060839
CREATED:20191026T033234Z
LAST-MODIFIED:20191026T033234Z
UID:474684-1574442000-1574460000@urbanmilwaukee.com
SUMMARY:Colors & Chords
DESCRIPTION:Join us on Friday\, November 22nd for Milwaukee’s Music\, Art\, and Tech Spectacle! Colors & Chords is a one of a kind event that celebrates music and art by pairing bands with prominent local artists onstage for a 30 minute set. Held in the historic Turner Hall Ballroom\, Colors & Chords merges musical craftsmanship with each artist’s interpretation of the music. \n
URL:https://urbanmilwaukee.com/event/colors-chords/
LOCATION:1034 N. 4th St.\, Milwaukee\, WI\, 53203\, United States
CATEGORIES:Arts & Entertainment,Food & Drink
ATTACH;FMTTYPE=image/png:https://urbanmilwaukee.com/wp-content/uploads/2019/09/colors-chords.png
END:VEVENT
END:VCALENDAR