BEGIN:VCALENDAR
VERSION:2.0
PRODID:-//Urban Milwaukee - ECPv4.6.9//NONSGML v1.0//EN
CALSCALE:GREGORIAN
METHOD:PUBLISH
X-WR-CALNAME:Urban Milwaukee
X-ORIGINAL-URL:https://urbanmilwaukee.com
X-WR-CALDESC:Events for Urban Milwaukee
BEGIN:VEVENT
DTSTART;TZID=America/Chicago:20251205T190000
DTEND;TZID=America/Chicago:20251205T200000
DTSTAMP:20260423T235439
CREATED:20251015T203336Z
LAST-MODIFIED:20251015T203336Z
UID:910630-1764961200-1764964800@urbanmilwaukee.com
SUMMARY:Colorful Nebulas
DESCRIPTION:Explore gorgeous clouds that give birth to stars. In this live\, interactive show\, witness the birth and death of stars and the breathtaking beauty of these interstellar clouds. \nThe program will include an indoor stargazing session of the night sky followed by the opportunity to ask questions.\, This event is open to the public. Not recommended for children under 4. \n
URL:https://urbanmilwaukee.com/event/colorful-nebulas-3/
LOCATION:1900 E .Kenwood Blvd.\, Milwaukee\, WI\, 53211\, United States
CATEGORIES:Arts & Entertainment
ATTACH;FMTTYPE=image/png:https://urbanmilwaukee.com/wp-content/uploads/2025/10/Colorful-Nebulas_16x9-UWM-Digetal-Banner-1.png
END:VEVENT
END:VCALENDAR