BEGIN:VCALENDAR
VERSION:2.0
PRODID:-//Urban Milwaukee - ECPv4.6.9//NONSGML v1.0//EN
CALSCALE:GREGORIAN
METHOD:PUBLISH
X-WR-CALNAME:Urban Milwaukee
X-ORIGINAL-URL:https://urbanmilwaukee.com
X-WR-CALDESC:Events for Urban Milwaukee
BEGIN:VEVENT
DTSTART;TZID=America/Chicago:20161021T170000
DTEND;TZID=America/Chicago:20161021T210000
DTSTAMP:20260424T101845
CREATED:20161112T124051Z
LAST-MODIFIED:20161112T124104Z
UID:186223-1477069200-1477083600@urbanmilwaukee.com
SUMMARY:Charles Munch - New Paintings Opening Reception
DESCRIPTION:Inspired by his life in rural Wisconsin\, Charles Munch’s paintings continue to be meditations on the complex relationship between humans\, animals\, and nature. Munch uses bold\, graphic lines and careful compositions to evoke questions and suggest possible solutions. These deceptively simple landscapes envision a world where nature’s balance is restored. \nOpening Reception: Gallery Night Oct.21 from 5 – 9 p.m.\nArtist’s Reception: Saturday\, October 22 from 1-3pm. Informal talk 2 p.m.\nExhibition Dates: October 21 – November 26 \n
URL:https://urbanmilwaukee.com/event/charles-munch-new-paintings-opening-reception/
LOCATION:233 N Milwaukee St\, Milwaukee\, WI\, 53202\, United States
CATEGORIES:Arts & Entertainment
ATTACH;FMTTYPE=image/jpeg:https://urbanmilwaukee.com/wp-content/uploads/2016/10/Charles_Munch_JUMPER_Oil_on_Canvas_34x53_e.jpg
END:VEVENT
END:VCALENDAR