BEGIN:VCALENDAR
VERSION:2.0
PRODID:-//Urban Milwaukee - ECPv4.6.9//NONSGML v1.0//EN
CALSCALE:GREGORIAN
METHOD:PUBLISH
X-WR-CALNAME:Urban Milwaukee
X-ORIGINAL-URL:https://urbanmilwaukee.com
X-WR-CALDESC:Events for Urban Milwaukee
BEGIN:VEVENT
DTSTART;TZID=America/Chicago:20191123T090000
DTEND;TZID=America/Chicago:20191123T153000
DTSTAMP:20260422T090208
CREATED:20191026T032753Z
LAST-MODIFIED:20191026T032753Z
UID:481463-1574499600-1574523000@urbanmilwaukee.com
SUMMARY:Celtic Christmas Boutique
DESCRIPTION:CelticMKE helps holiday shoppers spread Celtic cheer through a unique event where people discover gifts from the Emerald Isle and beyond. The Celtic Boutique showcases Irish and other wares (non-Irish) from over 30 vendors\, artists and crafts persons. \nOriginal artwork\, handmade jewelry\, pottery\, fiber arts\, unique apparel\, & food/candy imports from Ireland are just some of the items offered that contribute to the wonderful holiday shopping experience. \nIn addition\, guests are able to tour the Ward Irish Music Archives\, home to the largest collection of Irish and Irish American sheet music in the world with more than 5\,000 sheets of music and other music related items. \nWhen attendees work up an appetite\, they can enjoy a break at Café Celtique. Menu items from the 2018 boutique included: scones\, cookies\, potato soup\, hot dogs and corned-beef sandwiches \nAdmission is FREE. No strollers. Parking is available next door in the St. Bernard Parish Lot\, in public parking lots or on the street. \nRSVP to our Facebook Event and let us know you’re coming! \n
URL:https://urbanmilwaukee.com/event/celtic-christmas-boutique/
LOCATION:1532 N. Wauwatosa Ave.\, Wauwatosa\, WI\, 53213\, United States
CATEGORIES:Arts & Entertainment
ATTACH;FMTTYPE=image/png:https://urbanmilwaukee.com/wp-content/uploads/2019/10/celtic-xmas.png
END:VEVENT
END:VCALENDAR