BEGIN:VCALENDAR
VERSION:2.0
PRODID:-//Urban Milwaukee - ECPv4.6.9//NONSGML v1.0//EN
CALSCALE:GREGORIAN
METHOD:PUBLISH
X-WR-CALNAME:Urban Milwaukee
X-ORIGINAL-URL:https://urbanmilwaukee.com
X-WR-CALDESC:Events for Urban Milwaukee
BEGIN:VEVENT
DTSTART;TZID=America/Chicago:20171008T150000
DTEND;TZID=America/Chicago:20171008T160000
DTSTAMP:20260423T233506
CREATED:20171003T173856Z
LAST-MODIFIED:20171003T173856Z
UID:377589-1507474800-1507478400@urbanmilwaukee.com
SUMMARY:Celebrate and Advocate for A Green Downtown MKE
DESCRIPTION:Friends of Milwaukee’s Downtown Forest invites the citizens of Milwaukee to join our Petition Drive to advocate for a Food Forest in downtown Milwaukee.\nWe will gather in the gardens at St Francis Church on Sunday\, October 8\, 2017 at 3 PM. This date is the Feast of St Francis. \nWe do this in commemoration of Laudato Si from Pope Francis who has asked us to care for the earth\, for its people\, especially the poor\, and for a fair share for all. These too are the ethical principles of permaculture design. \nWe advocate for a livable city that creates a permaculture designed green space that nurtures a livable community\, captures rainwater and carbon\, cleans the air\, mitigates the heat island effect\, and produces food and blue/ green jobs. At the completion of the Petition Drive on the Feast Day of St. Martin de Porres\, November 3\, 2017\, we will present copies of the petition to Wangard Partners Inc\, Milwaukee Mayor Tom Barrett and Milwaukee County Executive Chris Abele. \n
URL:https://urbanmilwaukee.com/event/celebrate-and-advocate-for-a-green-downtown-mke/
LOCATION:1927 N. 4th St.\, Milwaukee\, WI\, 53212\, United States
CATEGORIES:Real Estate
ATTACH;FMTTYPE=image/jpeg:https://urbanmilwaukee.com/wp-content/uploads/2017/10/St-Francis-1.jpg
END:VEVENT
END:VCALENDAR