BEGIN:VCALENDAR
VERSION:2.0
PRODID:-//Urban Milwaukee - ECPv4.6.9//NONSGML v1.0//EN
CALSCALE:GREGORIAN
METHOD:PUBLISH
X-WR-CALNAME:Urban Milwaukee
X-ORIGINAL-URL:https://urbanmilwaukee.com
X-WR-CALDESC:Events for Urban Milwaukee
BEGIN:VEVENT
DTSTART;TZID=America/Chicago:20220122T200000
DTEND;TZID=America/Chicago:20220122T213000
DTSTAMP:20260421T051759
CREATED:20220122T030409Z
LAST-MODIFIED:20220122T030409Z
UID:635926-1642881600-1642887000@urbanmilwaukee.com
SUMMARY:Cask Comedy At Great Lakes Distillery
DESCRIPTION:Cask Comedy returns with the best in live stand up comedy along side hand-crafted spirits at Great Lakes Distillery! \nCask Comedy brings the best in live stand up comedy and pairs it with hand-crafted spirits at Great Lakes Distillery! Join us for lots of laughs and delicious beverages on Saturday\, January 22 at 8pm. Don’t miss it! \n$15 admission.\nDoors open at 7:30. Show at 8. \nCovid-19 UPDATE (in effect as of 9/17/21): \nMilwaukee Comedy will require proof of vaccination or a negative Covid test to attend our shows starting September 17th\, 2021. This policy is for the safety of our guests\, comics\, and staff\, and is inline with other venues in Milwaukee. \n• Accepted proof of Covid Vaccination card must match your name on a state or federal photo ID. Vaccination card or Photo/ Photocopy of card with full front clearly visible. \n• Negative Covid Test result must be within 72 hours of show time \nFailure to comply with these policies will result in denied entrance and/or being asked to leave the club and no ticket refund. \nIf you have purchased tickets to an upcoming show and are unable to attend because of this policy change\, please contact us via events@milwaukeecomedy.com and we will grant a full refund of your ticket purchase. \n
URL:https://urbanmilwaukee.com/event/cask-comedy-at-great-lakes-distillery/
CATEGORIES:Comedy
ATTACH;FMTTYPE=image/jpeg:https://urbanmilwaukee.com/wp-content/uploads/2021/12/Cask-Comedy.jpg
END:VEVENT
END:VCALENDAR