BEGIN:VCALENDAR
VERSION:2.0
PRODID:-//Urban Milwaukee - ECPv4.6.9//NONSGML v1.0//EN
CALSCALE:GREGORIAN
METHOD:PUBLISH
X-WR-CALNAME:Urban Milwaukee
X-ORIGINAL-URL:https://urbanmilwaukee.com
X-WR-CALDESC:Events for Urban Milwaukee
BEGIN:VEVENT
DTSTART;TZID=America/Chicago:20171021T170000
DTEND;TZID=America/Chicago:20171021T190000
DTSTAMP:20260423T202216
CREATED:20170925T131353Z
LAST-MODIFIED:20170925T131353Z
UID:371825-1508605200-1508612400@urbanmilwaukee.com
SUMMARY:Cappella Pratensis\, "Missa Lutherana: The Beginnings of Lutheran Church Music"
DESCRIPTION:Celebrating the 500th Anniversary of the Reformation\, these specialists in 16th-century polyphony surround a central music stand to read mensural notation from a single large choir book. The inclusion of chant as well as compositions of Heinrich Isaac and Adam Renner makes the case that Luther retained much more of earlier musical and liturgical traditions than is often assumed. \n
URL:https://urbanmilwaukee.com/event/cappella-pratensis-missa-lutherana-the-beginnings-of-lutheran-church-music/
LOCATION:1209 N Broadway\, Milwaukee\, WI\, 53202\, United States
CATEGORIES:Arts & Entertainment
ATTACH;FMTTYPE=image/jpeg:https://urbanmilwaukee.com/wp-content/uploads/2017/08/Cappella-Pratensis-Oct-21.jpg
END:VEVENT
END:VCALENDAR