BEGIN:VCALENDAR
VERSION:2.0
PRODID:-//Urban Milwaukee - ECPv4.6.9//NONSGML v1.0//EN
CALSCALE:GREGORIAN
METHOD:PUBLISH
X-WR-CALNAME:Urban Milwaukee
X-ORIGINAL-URL:https://urbanmilwaukee.com
X-WR-CALDESC:Events for Urban Milwaukee
BEGIN:VEVENT
DTSTART;TZID=America/Chicago:20190925T180000
DTEND;TZID=America/Chicago:20190925T193000
DTSTAMP:20260422T092820
CREATED:20190808T131254Z
LAST-MODIFIED:20190808T131254Z
UID:468516-1569434400-1569439800@urbanmilwaukee.com
SUMMARY:Campfire Stories
DESCRIPTION:Enjoy hot chocolate\, s’mores\, pizza samples\, and a sunset view over the glowing native grasses of Three Bridges Park while listening to fireside stories from specially curated presenters who share their story of transformation\, a theme chosen in honor of 20 years of transformation in the Menomonee River Valley. \n
URL:https://urbanmilwaukee.com/event/campfire-stories/
LOCATION:610 S. 35th St.\, Milwaukee\, WI\, 53215\, United States
CATEGORIES:Arts & Entertainment
ATTACH;FMTTYPE=image/png:https://urbanmilwaukee.com/wp-content/uploads/2019/08/11.png
END:VEVENT
END:VCALENDAR