BEGIN:VCALENDAR
VERSION:2.0
PRODID:-//Urban Milwaukee - ECPv4.6.9//NONSGML v1.0//EN
CALSCALE:GREGORIAN
METHOD:PUBLISH
X-WR-CALNAME:Urban Milwaukee
X-ORIGINAL-URL:https://urbanmilwaukee.com
X-WR-CALDESC:Events for Urban Milwaukee
BEGIN:VEVENT
DTSTART;TZID=America/Chicago:20191023T090000
DTEND;TZID=America/Chicago:20191023T220000
DTSTAMP:20260425T205815
CREATED:20190705T125515Z
LAST-MODIFIED:20190705T125515Z
UID:461683-1571821200-1571868000@urbanmilwaukee.com
SUMMARY:Cafe con Arte: Dia de los Muertos Ofrendas
DESCRIPTION:Let our Managing Artistic Director\, Jacobo Lovo\, guide you on a gallery tour and discussion surrounding our current art exhibit\, Dia de los Muertos (the Day of the Dead) Ofrendas! Enjoy learning more about the art\, the inspiration and symbolism behind it\, and the unique techniques utilized in each exhibition featured in the Latino Arts Gallery! Event includes coffee and churros and takes place in our Latino Arts Gallery. \n
URL:https://urbanmilwaukee.com/event/cafe-con-arte-dia-de-los-muertos-ofrendas/
LOCATION:1028 S. 9th St.\, Milwaukee\, WI\, 53204\, United States
CATEGORIES:Arts & Entertainment
ATTACH;FMTTYPE=image/jpeg:https://urbanmilwaukee.com/wp-content/uploads/2019/06/cafeconarte-1.jpg
END:VEVENT
END:VCALENDAR