BEGIN:VCALENDAR
VERSION:2.0
PRODID:-//Urban Milwaukee - ECPv4.6.9//NONSGML v1.0//EN
CALSCALE:GREGORIAN
METHOD:PUBLISH
X-WR-CALNAME:Urban Milwaukee
X-ORIGINAL-URL:https://urbanmilwaukee.com
X-WR-CALDESC:Events for Urban Milwaukee
BEGIN:VEVENT
DTSTART;TZID=America/Chicago:20171202T093000
DTEND;TZID=America/Chicago:20171202T113000
DTSTAMP:20260422T212929
CREATED:20171130T140022Z
LAST-MODIFIED:20171130T140022Z
UID:381544-1512207000-1512214200@urbanmilwaukee.com
SUMMARY:Breakfast with Santa at the Pfister Hotel
DESCRIPTION:Breakfast with Santa is a Pfister tradition that creates lifelong memories. Guests have the opportunity to share a jolly breakfast with Santa and his elves in The Pfister’s festive ballroom\, with every child receiving a special gift from Santa himself. Photos with Santa are highly encouraged! For reservations\, call 877.704.5340 or 414.935.5950. Pricing: $40 Adults\, $25 Children 3-10 years old\, 2 and under free (December 2 & 23); $45 Adults\, $30 Children 3-10 years old\, 2 and under free (December 9 & 16). \n
URL:https://urbanmilwaukee.com/event/breakfast-with-santa-at-the-pfister-hotel/
LOCATION:424 E. Wisconsin Ave.\, Milwaukee\, WI\, 53202\, United States
CATEGORIES:Food & Drink
ATTACH;FMTTYPE=image/jpeg:https://urbanmilwaukee.com/wp-content/uploads/2017/11/IMG_7830.jpg
END:VEVENT
END:VCALENDAR