BEGIN:VCALENDAR
VERSION:2.0
PRODID:-//Urban Milwaukee - ECPv4.6.9//NONSGML v1.0//EN
CALSCALE:GREGORIAN
METHOD:PUBLISH
X-WR-CALNAME:Urban Milwaukee
X-ORIGINAL-URL:https://urbanmilwaukee.com
X-WR-CALDESC:Events for Urban Milwaukee
BEGIN:VEVENT
DTSTART;TZID=America/Chicago:20251107T113000
DTEND;TZID=America/Chicago:20251107T123000
DTSTAMP:20260423T193340
CREATED:20251105T181232Z
LAST-MODIFIED:20251105T181232Z
UID:916037-1762515000-1762518600@urbanmilwaukee.com
SUMMARY:Black Studies in the Public Square: Zohran Mamdani and New York’s Mayoral Election
DESCRIPTION:Please join the Department of African and African Diaspora Studies at UW-Milwaukee for a panel entitled\, “Black Studies in the Public Square: Zohran Mamdani & NYC’s Mayoral Election” on November 7th at 11:30 a.m. \nPanel participants include: \nRyan Clancy\n(WI State Assemblyman) \nAmillia Heredia\n(Activist) \nJeffrey Sommers\n(Professor\, UWM) \nEmilio de Torre\n(Director\, Milwaukee Turners) \nKidiocus King Carroll\n(Professor\, UWM) \nNovember 7\, 11:30am\nLubar N146 \nCo-sponsored by UWM Political Science. Open and welcome to all. \n
URL:https://urbanmilwaukee.com/event/black-studies-in-the-public-square-zohran-mamdani-and-new-yorks-mayoral-election/
CATEGORIES:Politics
ATTACH;FMTTYPE=image/png:https://urbanmilwaukee.com/wp-content/uploads/2025/11/AADS_Poster_Event_Nov_7_v3.png
END:VEVENT
END:VCALENDAR