BEGIN:VCALENDAR
VERSION:2.0
PRODID:-//Urban Milwaukee - ECPv4.6.9//NONSGML v1.0//EN
CALSCALE:GREGORIAN
METHOD:PUBLISH
X-WR-CALNAME:Urban Milwaukee
X-ORIGINAL-URL:https://urbanmilwaukee.com
X-WR-CALDESC:Events for Urban Milwaukee
BEGIN:VEVENT
DTSTART;TZID=America/Chicago:20220127T163000
DTEND;TZID=America/Chicago:20220127T180000
DTSTAMP:20260421T032445
CREATED:20220122T030619Z
LAST-MODIFIED:20220122T030619Z
UID:639244-1643301000-1643306400@urbanmilwaukee.com
SUMMARY:Black Art on My Mind: Panel Discussion
DESCRIPTION:This panel discussion is a programming event of the “Presence and Persistence: Visions of American Blackness” exhibition at MIAD’s Frederick Layton Gallery\, on view Jan. 17 – Mar. 12\, 2022. Admission is free. \nThe panel discussion features three of the exhibition’s artists – Sandra Bridges\, Chrystal Denise Gillon and Jerry Jordan – and MIAD faculty member Brad Bernard. Moderated by Jody Alexander\, Milwaukee Art Museum’s African American Art Alliance. A reception will follow the discussion. \nLearn more about this exhibition and other events at: http://www.miad.edu/blackartonmymind \nImage: “Sunday Best” by Sandra Bridges \n
URL:https://urbanmilwaukee.com/event/black-art-on-my-mind-panel-discussion/
LOCATION:273 E. Erie St.\, Milwaukee\, WI\, 53202\, United States
ATTACH;FMTTYPE=image/jpeg:https://urbanmilwaukee.com/wp-content/uploads/2022/01/SundayBest_by_SandraBridges_20211103_152243.jpg
END:VEVENT
END:VCALENDAR