BEGIN:VCALENDAR
VERSION:2.0
PRODID:-//Urban Milwaukee - ECPv4.6.9//NONSGML v1.0//EN
CALSCALE:GREGORIAN
METHOD:PUBLISH
X-WR-CALNAME:Urban Milwaukee
X-ORIGINAL-URL:https://urbanmilwaukee.com
X-WR-CALDESC:Events for Urban Milwaukee
BEGIN:VEVENT
DTSTART;TZID=America/Chicago:20171203T160000
DTEND;TZID=America/Chicago:20171203T180000
DTSTAMP:20260423T014834
CREATED:20171130T140419Z
LAST-MODIFIED:20171130T140419Z
UID:382373-1512316800-1512324000@urbanmilwaukee.com
SUMMARY:Bittersweet Christmas Band at the Beulah Brinton House
DESCRIPTION:The holidays are a mixed bag and so is the Bittersweet Christmas Band! \nTraditional folk artists Phil Cooper\, Susan Urban\, Kate Early and Margaret Nelson join forces for a show that presents every possible perspective on the holiday season from the reverent to the ridiculous. \nFour-part harmonies and masterful instrumentation on guitar\, banjo\, mountain dulcimer\, hand drum and other percussion instruments make the Bittersweet Christmas Band a Holiday Revel celebrating the deep roots of Christmas! \n
URL:https://urbanmilwaukee.com/event/bittersweet-christmas-band-at-the-beulah-brinton-house/
LOCATION:2590 S. Superior St.\, Milwaukee\, WI\, 53207\, United States
CATEGORIES:Arts & Entertainment
ATTACH;FMTTYPE=image/jpeg:https://urbanmilwaukee.com/wp-content/uploads/2017/11/PHOTO-2.jpg
END:VEVENT
END:VCALENDAR