BEGIN:VCALENDAR
VERSION:2.0
PRODID:-//Urban Milwaukee - ECPv4.6.9//NONSGML v1.0//EN
CALSCALE:GREGORIAN
METHOD:PUBLISH
X-WR-CALNAME:Urban Milwaukee
X-ORIGINAL-URL:https://urbanmilwaukee.com
X-WR-CALDESC:Events for Urban Milwaukee
BEGIN:VEVENT
DTSTART;TZID=America/Chicago:20190504T100000
DTEND;TZID=America/Chicago:20190504T120000
DTSTAMP:20260420T230107
CREATED:20190318T200730Z
LAST-MODIFIED:20190318T200751Z
UID:445921-1556964000-1556971200@urbanmilwaukee.com
SUMMARY:Biking the Hank Aaron State Trail
DESCRIPTION:Welcome warmer weather with a bike ride along the Hank Aaron State Trail. Learn about the history of the trail and its role in Three Bridges Park. For intermediate to experienced riders. \nTickets: For adults and accompanied children | Program Cost: $28 | Member Discount: $20 | Price Break: $14 \n
URL:https://urbanmilwaukee.com/event/biking-the-hank-aaron-state-trail/
LOCATION:3700 W. Pierce St.\, Milwaukee\, WI
CATEGORIES:Arts & Entertainment
ATTACH;FMTTYPE=image/jpeg:https://urbanmilwaukee.com/wp-content/uploads/2019/03/DSC_0610.jpg
END:VEVENT
END:VCALENDAR