BEGIN:VCALENDAR
VERSION:2.0
PRODID:-//Urban Milwaukee - ECPv4.6.9//NONSGML v1.0//EN
CALSCALE:GREGORIAN
METHOD:PUBLISH
X-WR-CALNAME:Urban Milwaukee
X-ORIGINAL-URL:https://urbanmilwaukee.com
X-WR-CALDESC:Events for Urban Milwaukee
BEGIN:VEVENT
DTSTART;TZID=America/Chicago:20161010T100000
DTEND;TZID=America/Chicago:20161010T160000
DTSTAMP:20260424T114901
CREATED:20161028T081658Z
LAST-MODIFIED:20161028T081658Z
UID:186291-1476093600-1476115200@urbanmilwaukee.com
SUMMARY:Big Chill Golf Tournament
DESCRIPTION:With the cold weather quickly approaching\, guests and visitors are encouraged to take advantage of Lake Lawn Resort’s annual Big Chill Golf Tournament and buffet on Saturday\, Oct. 22 beginning at 10 a.m. on the 18-hole championship golf course\, Majestic Oaks. \nFeaturing a four-player team scramble format\, each member of the winning team will be awarded a 2017 Exclusive Golf Membership for Majestic Oaks. Additional prizes will be awarded to the second-\, eighth- and twelfth-place teams. For those wanting to make the most of their time out on the course\, an optional skins game will be offered. \nThe Big Chill Lunch Buffet will be served in the Champions Room following the tournament for teams to fuel up. \n
URL:https://urbanmilwaukee.com/event/big-chill-golf-tournament/
CATEGORIES:Arts & Entertainment
ATTACH;FMTTYPE=image/png:https://urbanmilwaukee.com/wp-content/uploads/2016/10/golf.png
END:VEVENT
END:VCALENDAR