BEGIN:VCALENDAR
VERSION:2.0
PRODID:-//Urban Milwaukee - ECPv4.6.9//NONSGML v1.0//EN
CALSCALE:GREGORIAN
METHOD:PUBLISH
X-WR-CALNAME:Urban Milwaukee
X-ORIGINAL-URL:https://urbanmilwaukee.com
X-WR-CALDESC:Events for Urban Milwaukee
BEGIN:VEVENT
DTSTART;TZID=America/Chicago:20220125T173000
DTEND;TZID=America/Chicago:20220125T183000
DTSTAMP:20260421T032758
CREATED:20220122T030439Z
LAST-MODIFIED:20220122T030439Z
UID:636167-1643131800-1643135400@urbanmilwaukee.com
SUMMARY:Big Brothers Big Sisters January Infosessions
DESCRIPTION:Big Brothers Big Sisters of Metro Milwaukee will be hosting three virtual Microsoft Teams infosessions in January for National Mentoring Month. These infosessions will be 30-60 minutes long and will share information about mentoring at Big Brothers Big Sisters. Please come join if you’d like to learn more about being a mentor! The third infosession is on Tuesday\, January 25th at 5:30 PM. The Microsoft Teams link to join this event is: https://bit.ly/3HcMFxi \n
URL:https://urbanmilwaukee.com/event/big-brothers-big-sisters-january-infosessions/
CATEGORIES:Virtual
ATTACH;FMTTYPE=image/jpeg:https://urbanmilwaukee.com/wp-content/uploads/2022/01/NMM-Events-Flyer-Finished-2.jpg
END:VEVENT
END:VCALENDAR