BEGIN:VCALENDAR
VERSION:2.0
PRODID:-//Urban Milwaukee - ECPv4.6.9//NONSGML v1.0//EN
CALSCALE:GREGORIAN
METHOD:PUBLISH
X-WR-CALNAME:Urban Milwaukee
X-ORIGINAL-URL:https://urbanmilwaukee.com
X-WR-CALDESC:Events for Urban Milwaukee
BEGIN:VEVENT
DTSTART;TZID=America/Chicago:20181011T173000
DTEND;TZID=America/Chicago:20181011T210000
DTSTAMP:20260425T032129
CREATED:20180723T222407Z
LAST-MODIFIED:20180723T222625Z
UID:407383-1539279000-1539291600@urbanmilwaukee.com
SUMMARY:Benjamin Franklin Awards Celebration
DESCRIPTION:Join us at the beautiful historic Central Library for MPL Foundation’s annual fundraiser to support Milwaukee Public Library. Enjoy an evening of food and beverages from Lee Johns Catering\, live auction with one-of-a-kind library experiences\, and more! \nFor ticket and sponsorship information\, please call 414-286-3784. More details coming soon at mpl.org/support. \n
URL:https://urbanmilwaukee.com/event/benjamin-franklin-awards-celebration/
LOCATION:814 W. Wisconsin Ave.\, Milwaukee\, WI\, 53233\, United States
CATEGORIES:Arts & Entertainment,Food & Drink
ATTACH;FMTTYPE=image/jpeg:https://urbanmilwaukee.com/wp-content/uploads/2018/05/MPL_Foundation_PMS229reverse.jpg
END:VEVENT
END:VCALENDAR