BEGIN:VCALENDAR
VERSION:2.0
PRODID:-//Urban Milwaukee - ECPv4.6.9//NONSGML v1.0//EN
CALSCALE:GREGORIAN
METHOD:PUBLISH
X-WR-CALNAME:Urban Milwaukee
X-ORIGINAL-URL:https://urbanmilwaukee.com
X-WR-CALDESC:Events for Urban Milwaukee
BEGIN:VEVENT
DTSTART;TZID=America/Chicago:20190330T190000
DTEND;TZID=America/Chicago:20190330T210000
DTSTAMP:20260423T120557
CREATED:20190228T121339Z
LAST-MODIFIED:20190228T121339Z
UID:443363-1553972400-1553979600@urbanmilwaukee.com
SUMMARY:Benefit Concert - Veterans for Peace
DESCRIPTION:Tom Nielson\, a Massachusetts singer-songwriter and activist\, will present an evening of music\, satire and social commentary. \nNeilson’s award-winning songs provide a voice for those who believe in the power of folk music to effect change. Combining art with activism\, he has appeared with Medea Benjamin\, Cynthia McKinney\, Amy Goodman\, Cindy Sheehan\, Cesar Chavez\, Noam Chomsky\, Ralph Nader\, Ray McGovern\, Howard Zinn\, David Cobb\, and others. \nHe has been at the forefront in helping communities organize against water privatization\, mountain top removal\, nuclear energy\, incinerators\, GMOs\, fracking\, & toxic waste. \nTickets: $15 suggested donation. \n
URL:https://urbanmilwaukee.com/event/benefit-concert-veterans-for-peace/
LOCATION:1001 E. Locust Street\, Milwaukee\, WI\, United States
CATEGORIES:Arts & Entertainment
ATTACH;FMTTYPE=image/jpeg:https://urbanmilwaukee.com/wp-content/uploads/2019/02/NEILSON.jpg
END:VEVENT
END:VCALENDAR