BEGIN:VCALENDAR
VERSION:2.0
PRODID:-//Urban Milwaukee - ECPv4.6.9//NONSGML v1.0//EN
CALSCALE:GREGORIAN
METHOD:PUBLISH
X-WR-CALNAME:Urban Milwaukee
X-ORIGINAL-URL:https://urbanmilwaukee.com
X-WR-CALDESC:Events for Urban Milwaukee
BEGIN:VEVENT
DTSTART;TZID=America/Chicago:20151212T193000
DTEND;TZID=America/Chicago:20151212T213000
DTSTAMP:20260424T154101
CREATED:20151207T224729Z
LAST-MODIFIED:20151207T224729Z
UID:148078-1449948600-1449955800@urbanmilwaukee.com
SUMMARY:Bel Canto Chorus Christmas in the Basilica
DESCRIPTION:Immerse yourself in the beauty and joy of the season as Bel Canto offers Christmas at the Basilica\, one of Milwaukee’s most inspiring holiday traditions. Familiar carols\, soaring hymns\, and music that will put you in the “holiday spirit” are all a part of this festive concert for all ages.\nDecember 12 | 7:30 PM (Saturday)\n13 | 3 PM + 6:30 PM (Sunday) \n
URL:https://urbanmilwaukee.com/event/bel-canto-chorus-christmas-in-the-basilica/
LOCATION:2333 S. 6th St.\, Milwaukee\, WI\, 53215\, United States
CATEGORIES:Arts & Entertainment
ATTACH;FMTTYPE=image/jpeg:https://urbanmilwaukee.com/wp-content/uploads/2015/12/Christmas.jpg
END:VEVENT
END:VCALENDAR