BEGIN:VCALENDAR
VERSION:2.0
PRODID:-//Urban Milwaukee - ECPv4.6.9//NONSGML v1.0//EN
CALSCALE:GREGORIAN
METHOD:PUBLISH
X-WR-CALNAME:Urban Milwaukee
X-ORIGINAL-URL:https://urbanmilwaukee.com
X-WR-CALDESC:Events for Urban Milwaukee
BEGIN:VEVENT
DTSTART;TZID=America/Chicago:20221207T193000
DTEND;TZID=America/Chicago:20221207T213000
DTSTAMP:20260419T223044
CREATED:20221206T210103Z
LAST-MODIFIED:20221206T210103Z
UID:692243-1670441400-1670448600@urbanmilwaukee.com
SUMMARY:Beehive The 60s Musical
DESCRIPTION:From Aretha Franklin to Janis Joplin\, the powerful female voices of the 1960s have left an unforgettable mark on generations. “Beehive: The 60s Musical” is a non-stop\, energetic celebration of these iconic women and their music in a soundtrack for this decade of change. Six extraordinary women perform more than two dozen chart toppers from Diana Ross\, The Supremes\, Tina Turner and more. Complete with big hair dos and 60’s fashions\, this timeless production will have audiences of all ages singing along and shouting for more. The Milwaukee Repertory Theater will put on “Beehive: The 60s Musical” at the Stackner Cabaret from November 11\, 2022 through January 15\, 2023. \nCreated by Larry Gallagher \n
URL:https://urbanmilwaukee.com/event/beehive-the-60s-musical-2/
LOCATION:108 E. Wells St.\, Milwaukee\, WI\, 53202\, United States
CATEGORIES:Arts & Entertainment
ATTACH;FMTTYPE=image/png:https://urbanmilwaukee.com/wp-content/uploads/2022/12/Beehive-1200x900-2.png
END:VEVENT
END:VCALENDAR