BEGIN:VCALENDAR
VERSION:2.0
PRODID:-//Urban Milwaukee - ECPv4.6.9//NONSGML v1.0//EN
CALSCALE:GREGORIAN
METHOD:PUBLISH
X-WR-CALNAME:Urban Milwaukee
X-ORIGINAL-URL:https://urbanmilwaukee.com
X-WR-CALDESC:Events for Urban Milwaukee
BEGIN:VEVENT
DTSTART;TZID=America/Chicago:20190502T200000
DTEND;TZID=America/Chicago:20190502T233000
DTSTAMP:20260421T081259
CREATED:20190319T022121Z
LAST-MODIFIED:20190319T022121Z
UID:445384-1556827200-1556839800@urbanmilwaukee.com
SUMMARY:Barbaro and Chicken Wire Empire at Anodyne
DESCRIPTION:Barbaro’s music is at once lively and intimate\, perfect for twirling around the dance floor or cooking with someone you love. The Minneapolis-Winona quartet have built momentum around their dynamic sound\, each set flowing naturally between energetic jams and contemplative interludes. Their upcoming album\, due out spring 2019\, showcases their captivating songwriting\, layered over textures pulled from bluegrass\, jazz\, pop\, and country-western. \nBarbaro has performed at premier Midwest music festivals including Blue Ox\, Boats & Bluegrass\, and MBOTMA. In 2018\, the band released their first EP and claimed two contest wins\, at the John Hartford Memorial Festival Band Contest and MBOTMA’s Americana Roots Band Contest. \nChicken Wire Empire– Contemporary tones blend with traditional roots in Milwaukee’s unparalleled Chicken Wire Empire. Since their formation in 2014\, the Chicken Wire Empire has wasted little time establishing themselves as one of the hottest up and coming bands in the local and regional music scene. Ryan Ogburn (mandolin)\, Jordan Kroeger (upright Bass)\, Greg Brundage (Guitar)\, and Jon Peik (banjo)\, Ernest Brusubardis IV (fiddle) Together these individuals deliver their bluegrass inspired song to audiences of any age. \n
URL:https://urbanmilwaukee.com/event/barbaro-and-chicken-wire-empire-at-anodyne/
LOCATION:224 W. Bruce St.\, Milwaukee\, WI\, 53204\, United States
CATEGORIES:Arts & Entertainment
ATTACH;FMTTYPE=image/jpeg:https://urbanmilwaukee.com/wp-content/uploads/2019/03/5.2.19_Barbaro.CWE_.jpg
END:VEVENT
END:VCALENDAR