BEGIN:VCALENDAR
VERSION:2.0
PRODID:-//Urban Milwaukee - ECPv4.6.9//NONSGML v1.0//EN
CALSCALE:GREGORIAN
METHOD:PUBLISH
X-WR-CALNAME:Urban Milwaukee
X-ORIGINAL-URL:https://urbanmilwaukee.com
X-WR-CALDESC:Events for Urban Milwaukee
BEGIN:VEVENT
DTSTART;TZID=America/Chicago:20160920T190000
DTEND;TZID=America/Chicago:20160920T210000
DTSTAMP:20260426T003345
CREATED:20160825T224654Z
LAST-MODIFIED:20160825T224654Z
UID:182019-1474398000-1474405200@urbanmilwaukee.com
SUMMARY:Author to Share 'Holocaust History on Trial’ Prior to Release of Movie
DESCRIPTION:Hear acclaimed historian and author Deborah Lipstadt share her story of Holocaust history on trial prior to the autumn release of the biopic “Denial.” The film recounts Lipstadt’s battle for historical truth as she faced a libel suit by infamous Holocaust denier David Irving. The movie is based on her book\, “History on Trial: My Day in Court with a Holocaust Denier.” She will also discuss contemporary anti-Semitism. \nFree\, but pre-registration required to guarantee a seat. \nLearn more and RSVP: MilwaukeeJewish.org/Lipstadt or contact Ashleigh Lund at AshleighL@MilwaukeeJewish.org or (414) 390-5741. \nThis event is brought to the community courtesy of the Milwaukee Jewish Federation and the Nathan & Esther Pelz Holocaust Education Resource Center\, a program of MJF. \n
URL:https://urbanmilwaukee.com/event/author-to-share-holocaust-history-on-trial-prior-to-release-of-movie/
CATEGORIES:Arts & Entertainment
ATTACH;FMTTYPE=image/jpeg:https://urbanmilwaukee.com/wp-content/uploads/2016/08/lipstadt2.jpg
END:VEVENT
END:VCALENDAR