BEGIN:VCALENDAR
VERSION:2.0
PRODID:-//Urban Milwaukee - ECPv4.6.9//NONSGML v1.0//EN
CALSCALE:GREGORIAN
METHOD:PUBLISH
X-WR-CALNAME:Urban Milwaukee
X-ORIGINAL-URL:https://urbanmilwaukee.com
X-WR-CALDESC:Events for Urban Milwaukee
BEGIN:VEVENT
DTSTART;TZID=America/Chicago:20151228T190000
DTEND;TZID=America/Chicago:20151229T203000
DTSTAMP:20260424T232130
CREATED:20151221T204236Z
LAST-MODIFIED:20151221T204236Z
UID:149398-1451329200-1451421000@urbanmilwaukee.com
SUMMARY:Audition Notice
DESCRIPTION:SandMark Productions and Walker’s Point Center for the Arts is casting the premiere production of “Baby Wings” an original play written by Mark Wyss and directed by Tom Zuehlke. Seeking female actors age 22-32. Open auditions to be held at Walkers’ Point Center for the Arts\, 839 S. 5th Street\, on December 28 and 29\, from 7 pm to 8:30 pm\, or by appointment. Auditions will consist of reading from the script. Three weekend run at WPCA with performance dates of February 12 thru 27. Actors will be compensated. For further information contact Tom Zuehlke at 414-294-9874. \n
URL:https://urbanmilwaukee.com/event/audition-notice/
CATEGORIES:Arts & Entertainment
ATTACH;FMTTYPE=image/png:https://urbanmilwaukee.com/wp-content/uploads/2015/12/babywings.png
END:VEVENT
END:VCALENDAR