BEGIN:VCALENDAR
VERSION:2.0
PRODID:-//Urban Milwaukee - ECPv4.6.9//NONSGML v1.0//EN
CALSCALE:GREGORIAN
METHOD:PUBLISH
X-WR-CALNAME:Urban Milwaukee
X-ORIGINAL-URL:https://urbanmilwaukee.com
X-WR-CALDESC:Events for Urban Milwaukee
BEGIN:VEVENT
DTSTART;TZID=America/Chicago:20170426T190000
DTEND;TZID=America/Chicago:20170426T200000
DTSTAMP:20260421T070709
CREATED:20170413T020249Z
LAST-MODIFIED:20170413T020249Z
UID:207118-1493233200-1493236800@urbanmilwaukee.com
SUMMARY:Astrophotography Show
DESCRIPTION:Astrophotography has inspired incredibly beautiful imagery from around the world. Amateur astronomers\, researchers with the Hubble\, and everyone in between can appreciate the stunning photos you can capture in the cosmos. \n
URL:https://urbanmilwaukee.com/event/astrophotography-show/
LOCATION:1900 E .Kenwood Blvd.\, Milwaukee\, WI\, 53211\, United States
CATEGORIES:Arts & Entertainment
ATTACH;FMTTYPE=image/jpeg:https://urbanmilwaukee.com/wp-content/uploads/2017/04/Astrophotography-flier.jpg
END:VEVENT
END:VCALENDAR