BEGIN:VCALENDAR
VERSION:2.0
PRODID:-//Urban Milwaukee - ECPv4.6.9//NONSGML v1.0//EN
CALSCALE:GREGORIAN
METHOD:PUBLISH
X-WR-CALNAME:Urban Milwaukee
X-ORIGINAL-URL:https://urbanmilwaukee.com
X-WR-CALDESC:Events for Urban Milwaukee
BEGIN:VEVENT
DTSTART;TZID=America/Chicago:20251112T193000
DTEND;TZID=America/Chicago:20251112T210000
DTSTAMP:20260422T215724
CREATED:20251109T180521Z
LAST-MODIFIED:20251109T180521Z
UID:917529-1762975800-1762981200@urbanmilwaukee.com
SUMMARY:Artists Now! Guest Lecture Series: Michelle Grabner
DESCRIPTION:Michelle Grabner is an artist\, writer\, and curator. She is the Crown Family Professor of Art at the School of the Art Institute of Chicago where she has taught since 1996. Her work is in the collection of the Art Institute of Chicago\, Walker Art Center\, Museum of Contemporary Art\, Chicago\, MUDAM – Musée d’Art Moderne Luxembourg\, and the Milwaukee Art Museum\, among others. Grabner\, along with artist Brad Killam\, runs the artist-run project spaces The Suburban (Milwaukee\, est. 1999)\, and The Poor Farm\, (Little Wolf\, WI\, est. 2008). Grabner is a recipient of the 2025 Mary L. Nohl Fund Fellowships for Individual Artists. \n
URL:https://urbanmilwaukee.com/event/artists-now-guest-lecture-series-michelle-grabner/
CATEGORIES:Arts & Entertainment
ATTACH;FMTTYPE=image/jpeg:https://urbanmilwaukee.com/wp-content/uploads/2025/11/Screenshot_7-11-2025_10383_uwm.edu_.jpeg
END:VEVENT
END:VCALENDAR