BEGIN:VCALENDAR
VERSION:2.0
PRODID:-//Urban Milwaukee - ECPv4.6.9//NONSGML v1.0//EN
CALSCALE:GREGORIAN
METHOD:PUBLISH
X-WR-CALNAME:Urban Milwaukee
X-ORIGINAL-URL:https://urbanmilwaukee.com
X-WR-CALDESC:Events for Urban Milwaukee
BEGIN:VEVENT
DTSTART;TZID=America/Chicago:20260218T193000
DTEND;TZID=America/Chicago:20260218T210000
DTSTAMP:20260426T003837
CREATED:20260210T212532Z
LAST-MODIFIED:20260210T212532Z
UID:939903-1771443000-1771448400@urbanmilwaukee.com
SUMMARY:Artists Now! Guest Lecture Series: Camila Rosa
DESCRIPTION:Camila Rosa (b. 1988) is a Brazilian illustrator and artist based in Brooklyn\, NY. Known for her vibrant and dynamic work\, she explores themes of feminism\, social justice\, and diversity\, with a strong focus on representing Latin women. Through bright colors\, striking compositions\, and empowering narratives\, her art challenges stereotypes and advocates for inclusivity and equality. \n
URL:https://urbanmilwaukee.com/event/artists-now-guest-lecture-series-camila-rosa/
CATEGORIES:Arts & Entertainment
ATTACH;FMTTYPE=image/jpeg:https://urbanmilwaukee.com/wp-content/uploads/2026/01/Screenshot_20-1-2026_115549_uwm.edu_.jpeg
END:VEVENT
END:VCALENDAR