BEGIN:VCALENDAR
VERSION:2.0
PRODID:-//Urban Milwaukee - ECPv4.6.9//NONSGML v1.0//EN
CALSCALE:GREGORIAN
METHOD:PUBLISH
X-WR-CALNAME:Urban Milwaukee
X-ORIGINAL-URL:https://urbanmilwaukee.com
X-WR-CALDESC:Events for Urban Milwaukee
BEGIN:VEVENT
DTSTART;TZID=America/Chicago:20191114T190000
DTEND;TZID=America/Chicago:20191114T203000
DTSTAMP:20260423T112952
CREATED:20191109T185410Z
LAST-MODIFIED:20191109T185410Z
UID:483647-1573758000-1573763400@urbanmilwaukee.com
SUMMARY:Artist Talk: "Making a Career of Diversity in Fantasy Art"
DESCRIPTION:“Making a Career of Diversity in Fantasy Art” presented by Winona Nelson in MIAD’s Student Union. \nWinona Nelson has been working in the video game and tabletop gaming industries for over a decade. Her clients have included video game companies Flagship Studios\, Planet Moon Studios\, Kabam\, Final Form Games\, Aftershock\, Naughty Dog\, and Fogbank Studios as well as tabletop gaming companies Fantasy Flight\, Games Workshop\, Warhammer Black Library\, and Wizards of the Coast. She has painted over 135 Magic cards and tokens and has traveled the world to sign cards at tournaments and events. Throughout her career she has worked to expand representations of diversity in fantasy and science fiction culture. \nThis event is in support of Story & Craft – A Magic: The Gathering Exhibition\, on view November 11 – January 11 in MIAD’s Brooks Stevens Gallery. \n
URL:https://urbanmilwaukee.com/event/artist-talk-making-a-career-of-diversity-in-fantasy-art/
LOCATION:273 E. Erie St.\, Milwaukee\, WI\, 53202\, United States
CATEGORIES:Arts & Entertainment
ATTACH;FMTTYPE=image/jpeg:https://urbanmilwaukee.com/wp-content/uploads/2019/11/73321896_10157777628004433_7634571086109081600_o.jpg
END:VEVENT
END:VCALENDAR