BEGIN:VCALENDAR
VERSION:2.0
PRODID:-//Urban Milwaukee - ECPv4.6.9//NONSGML v1.0//EN
CALSCALE:GREGORIAN
METHOD:PUBLISH
X-WR-CALNAME:Urban Milwaukee
X-ORIGINAL-URL:https://urbanmilwaukee.com
X-WR-CALDESC:Events for Urban Milwaukee
BEGIN:VEVENT
DTSTART;TZID=America/Chicago:20171019T183000
DTEND;TZID=America/Chicago:20171019T193000
DTSTAMP:20260424T022005
CREATED:20170922T180235Z
LAST-MODIFIED:20170923T192511Z
UID:376051-1508437800-1508441400@urbanmilwaukee.com
SUMMARY:Artist Talk: A Craving for Clay
DESCRIPTION:Madison-based master ceramist Gerit Grimm tells of her lifelong obsession with clay and how it’s shaped her life from Germany to Wisconsin. A guided exhibition tour of MOWA’s latest exhibition “Gerit Grimm’s Fairytales: In a Time Neither Now nor Then” will follow. \n
URL:https://urbanmilwaukee.com/event/artist-talk-a-craving-for-clay/
LOCATION:205 Veterans Ave.\, West Bend\, WI\, 53095\, United States
CATEGORIES:Arts & Entertainment
ATTACH;FMTTYPE=image/jpeg:https://urbanmilwaukee.com/wp-content/uploads/2017/09/DSC_9042.jpg
END:VEVENT
END:VCALENDAR